BEGIN:VCALENDAR
VERSION:2.0
PRODID:-//Aces Andalucía - ECPv6.15.17.1//NONSGML v1.0//EN
CALSCALE:GREGORIAN
METHOD:PUBLISH
X-ORIGINAL-URL:https://aces-andalucia.es
X-WR-CALDESC:Eventos para Aces Andalucía
REFRESH-INTERVAL;VALUE=DURATION:PT1H
X-Robots-Tag:noindex
X-PUBLISHED-TTL:PT1H
BEGIN:VTIMEZONE
TZID:Europe/Madrid
BEGIN:DAYLIGHT
TZOFFSETFROM:+0100
TZOFFSETTO:+0200
TZNAME:CEST
DTSTART:20250330T010000
END:DAYLIGHT
BEGIN:STANDARD
TZOFFSETFROM:+0200
TZOFFSETTO:+0100
TZNAME:CET
DTSTART:20251026T010000
END:STANDARD
BEGIN:DAYLIGHT
TZOFFSETFROM:+0100
TZOFFSETTO:+0200
TZNAME:CEST
DTSTART:20260329T010000
END:DAYLIGHT
BEGIN:STANDARD
TZOFFSETFROM:+0200
TZOFFSETTO:+0100
TZNAME:CET
DTSTART:20261025T010000
END:STANDARD
BEGIN:DAYLIGHT
TZOFFSETFROM:+0100
TZOFFSETTO:+0200
TZNAME:CEST
DTSTART:20270328T010000
END:DAYLIGHT
BEGIN:STANDARD
TZOFFSETFROM:+0200
TZOFFSETTO:+0100
TZNAME:CET
DTSTART:20271031T010000
END:STANDARD
END:VTIMEZONE
BEGIN:VEVENT
DTSTART;TZID=Europe/Madrid:20260218T093000
DTEND;TZID=Europe/Madrid:20260218T170000
DTSTAMP:20260420T132100
CREATED:20260217T100248Z
LAST-MODIFIED:20260217T100248Z
UID:24677-1771407000-1771434000@aces-andalucia.es
SUMMARY:Jornada “Salud mental del profesorado\, alumnado y ACOSO ESCOLAR”
DESCRIPTION:El objetivo de esta jornada es de reflexión\, intercambio de experiencias\, compartir estrategias y herramientas sobre la Salud Mental y la Convivencia Escolar\, con ponencias y talleres de expertos especializados que abordarán temas de la situación actual en los departamentos de Orientación y Dirección en los centros educativos.\nUn encuentro imprescindible para avanzar conjuntamente en futuras líneas de trabajo y analizar los retos actuales a los que se enfrentan las cooperativas de enseñanza. \nSolo pueden participar centros asociados. \n 
URL:https://aces-andalucia.es/eventos/presentacion-coop-talent-en-malaga-y-ponencia-el-talento-deteccion-retencion-y-provecho-3-2/
LOCATION:Escuela de Economía Social de Osuna\, Plaza de la Merced\, S/N\, Osuna\, Sevilla\, Spain
ORGANIZER;CN="ACES-Andaluc%C3%ADa Formaci%C3%B3n":MAILTO:formacion@aces-andalucia.org
END:VEVENT
END:VCALENDAR